Workbook

Sheet Dashboard
A1: Multi-Location Restaurant Group: Performance Dashboard
A3: Cross-references 4 linked tables (Locations, Daily Sales, Labor Hours, Waste Log) by Location ID. Paste new rows into any source tab and recalculate to refresh.
A5: TOTAL REVENUE | C5: TOTAL COVERS | E5: AVG CHECK | G5: BLENDED LABOR % OF SALES | J5: TOTAL WASTE COST
A6: =SUM('Daily Sales'!C2:C456) -> 2580831.9 | C6: =SUM('Daily Sales'!D2:D456) -> 79242 | E6: =A6/C6 -> 32.568989 | G6: =SUM('Labor Hours'!E2:E456)/A6 -> 0.29429994 | J6: =SUM('Waste Log'!D2:D213) -> 17015.96
A11: Revenue Trend, Month over Month | F11: Location Performance
F12: Location | G12: Revenue | H12: Covers | I12: Avg Check | J12: Labor % | K12: Waste $
A13: April Revenue | B13: =SUMPRODUCT((TEXT('Daily Sales'!$A$2:$A$456,"yyyy-mm")="2026-04")*'Daily Sales'!$C$2:$C$456) -> 839429.58 | F13: Downtown Location | G13: =SUMIFS('Daily Sales'!$C$2:$C$456,'Daily Sales'!$B$2:$B$456,"L1") -> 639637.71 | H13: =SUMIFS('Daily Sales'!$D$2:$D$456,'Daily Sales'!$B$2:$B$456,"L1") -> 19551 | I13: =G13/H13 -> 32.716368 | J13: =SUMIFS('Labor Hours'!$E$2:$E$456,'Labor Hours'!$B$2:$B$456,"L1")/G13 -> 0.28294057 | K13: =SUMIFS('Waste Log'!$D$2:$D$213,'Waste Log'!$B$2:$B$213,"L1") -> 3918.2
A14: May Revenue | B14: =SUMPRODUCT((TEXT('Daily Sales'!$A$2:$A$456,"yyyy-mm")="2026-05")*'Daily Sales'!$C$2:$C$456) -> 894624.49 | F14: Riverside Location | G14: =SUMIFS('Daily Sales'!$C$2:$C$456,'Daily Sales'!$B$2:$B$456,"L2") -> 457366.29 | H14: =SUMIFS('Daily Sales'!$D$2:$D$456,'Daily Sales'!$B$2:$B$456,"L2") -> 13976 | I14: =G14/H14 -> 32.725121 | J14: =SUMIFS('Labor Hours'!$E$2:$E$456,'Labor Hours'!$B$2:$B$456,"L2")/G14 -> 0.29234258 | K14: =SUMIFS('Waste Log'!$D$2:$D$213,'Waste Log'!$B$2:$B$213,"L2") -> 2875.71
A15: June Revenue | B15: =SUMPRODUCT((TEXT('Daily Sales'!$A$2:$A$456,"yyyy-mm")="2026-06")*'Daily Sales'!$C$2:$C$456) -> 846777.79 | F15: Uptown Location | G15: =SUMIFS('Daily Sales'!$C$2:$C$456,'Daily Sales'!$B$2:$B$456,"L3") -> 777992.86 | H15: =SUMIFS('Daily Sales'!$D$2:$D$456,'Daily Sales'!$B$2:$B$456,"L3") -> 24088 | I15: =G15/H15 -> 32.297943 | J15: =SUMIFS('Labor Hours'!$E$2:$E$456,'Labor Hours'!$B$2:$B$456,"L3")/G15 -> 0.26619874 | K15: =SUMIFS('Waste Log'!$D$2:$D$213,'Waste Log'!$B$2:$B$213,"L3") -> 3147.69
A16: May to June Growth | B16: =(B15-B14)/B14 -> -0.053482439 | F16: Westgate Location | G16: =SUMIFS('Daily Sales'!$C$2:$C$456,'Daily Sales'!$B$2:$B$456,"L4") -> 382867.95 | H16: =SUMIFS('Daily Sales'!$D$2:$D$456,'Daily Sales'!$B$2:$B$456,"L4") -> 11674 | I16: =G16/H16 -> 32.796638 | J16: =SUMIFS('Labor Hours'!$E$2:$E$456,'Labor Hours'!$B$2:$B$456,"L4")/G16 -> 0.35758945 | K16: =SUMIFS('Waste Log'!$D$2:$D$213,'Waste Log'!$B$2:$B$213,"L4") -> 3519.33
F17: Harbor Point Location | G17: =SUMIFS('Daily Sales'!$C$2:$C$456,'Daily Sales'!$B$2:$B$456,"L5") -> 322967.05 | H17: =SUMIFS('Daily Sales'!$D$2:$D$456,'Daily Sales'!$B$2:$B$456,"L5") -> 9953 | I17: =G17/H17 -> 32.449216 | J17: =SUMIFS('Labor Hours'!$E$2:$E$456,'Labor Hours'!$B$2:$B$456,"L5")/G17 -> 0.31223399 | K17: =SUMIFS('Waste Log'!$D$2:$D$213,'Waste Log'!$B$2:$B$213,"L5") -> 3555.03
A19: Top 5 Sales Days (all locations) | F19: Monthly Revenue (chart source) | I19: Waste Cost by Category
A20: Rank | B20: Date | C20: Location | D20: Net Sales | F20: Month | G20: Revenue | I20: Category | J20: Waste $
A21: 1 | B21: =INDEX('Daily Sales'!$A$2:$A$456,MATCH(D21,'Daily Sales'!$C$2:$C$456,0)) -> 46143 | C21: =INDEX(Locations!$B$2:$B$6,MATCH(INDEX('Daily Sales'!$B$2:$B$456,MATCH(D21,'Daily Sales'!$C$2:$C$456,0)),Locations!$A$2:$A$6,0)) -> Uptown Location | D21: =LARGE('Daily Sales'!$C$2:$C$456,A21) -> 11780.61 | F21: April | G21: =B13 -> 839429.58 | I21: Produce | J21: =SUMIFS('Waste Log'!$D$2:$D$213,'Waste Log'!$C$2:$C$213,I21) -> 4944.53
A22: 2 | B22: =INDEX('Daily Sales'!$A$2:$A$456,MATCH(D22,'Daily Sales'!$C$2:$C$456,0)) -> 46122 | C22: =INDEX(Locations!$B$2:$B$6,MATCH(INDEX('Daily Sales'!$B$2:$B$456,MATCH(D22,'Daily Sales'!$C$2:$C$456,0)),Locations!$A$2:$A$6,0)) -> Uptown Location | D22: =LARGE('Daily Sales'!$C$2:$C$456,A22) -> 11762.37 | F22: May | G22: =B14 -> 894624.49 | I22: Protein | J22: =SUMIFS('Waste Log'!$D$2:$D$213,'Waste Log'!$C$2:$C$213,I22) -> 3942.98
A23: 3 | B23: =INDEX('Daily Sales'!$A$2:$A$456,MATCH(D23,'Daily Sales'!$C$2:$C$456,0)) -> 46166 | C23: =INDEX(Locations!$B$2:$B$6,MATCH(INDEX('Daily Sales'!$B$2:$B$456,MATCH(D23,'Daily Sales'!$C$2:$C$456,0)),Locations!$A$2:$A$6,0)) -> Uptown Location | D23: =LARGE('Daily Sales'!$C$2:$C$456,A23) -> 11618.13 | F23: June | G23: =B15 -> 846777.79 | I23: Dairy | J23: =SUMIFS('Waste Log'!$D$2:$D$213,'Waste Log'!$C$2:$C$213,I23) -> 2253.85
A24: 4 | B24: =INDEX('Daily Sales'!$A$2:$A$456,MATCH(D24,'Daily Sales'!$C$2:$C$456,0)) -> 46158 | C24: =INDEX(Locations!$B$2:$B$6,MATCH(INDEX('Daily Sales'!$B$2:$B$456,MATCH(D24,'Daily Sales'!$C$2:$C$456,0)),Locations!$A$2:$A$6,0)) -> Uptown Location | D24: =LARGE('Daily Sales'!$C$2:$C$456,A24) -> 11617.03 | I24: Bakery | J24: =SUMIFS('Waste Log'!$D$2:$D$213,'Waste Log'!$C$2:$C$213,I24) -> 2801.59
A25: 5 | B25: =INDEX('Daily Sales'!$A$2:$A$456,MATCH(D25,'Daily Sales'!$C$2:$C$456,0)) -> 46199 | C25: =INDEX(Locations!$B$2:$B$6,MATCH(INDEX('Daily Sales'!$B$2:$B$456,MATCH(D25,'Daily Sales'!$C$2:$C$456,0)),Locations!$A$2:$A$6,0)) -> Uptown Location | D25: =LARGE('Daily Sales'!$C$2:$C$456,A25) -> 11552.38 | I25: Other | J25: =SUMIFS('Waste Log'!$D$2:$D$213,'Waste Log'!$C$2:$C$213,I25) -> 3073.01

Sheet Locations
A1: Location ID | B1: Location Name | C1: City | D1: Manager | E1: Seats
A2: L1 | B2: Downtown Location | C2: Austin, TX | D2: Priya Nair | E2: 120
A3: L2 | B3: Riverside Location | C3: Austin, TX | D3: Marcus Webb | E3: 90
A4: L3 | B4: Uptown Location | C4: San Antonio, TX | D4: Dana Okafor | E4: 140
A5: L4 | B5: Westgate Location | C5: San Antonio, TX | D5: Leo Fernandez | E5: 80
A6: L5 | B6: Harbor Point Location | C6: Corpus Christi, TX | D6: Ivy Chen | E6: 70

Sheet Daily Sales
A1: Date | B1: Location ID | C1: Net Sales | D1: Covers | E1: Comps
A2: 46113 | B2: L1 | C2: 6381.13 | D2: 213 | E2: 217.8
A3: 46113 | B3: L2 | C3: 4956.32 | D3: 152 | E3: 131.77
A4: 46113 | B4: L3 | C4: 6639.49 | D4: 220 | E4: 114.29
A5: 46113 | B5: L4 | C5: 3849.38 | D5: 128 | E5: 131.95
A6: 46113 | B6: L5 | C6: 2620.52 | D6: 88 | E6: 32.03
A7: 46114 | B7: L1 | C7: 6802.4 | D7: 215 | E7: 148.24
A8: 46114 | B8: L2 | C8: 4030.69 | D8: 117 | E8: 81.01
A9: 46114 | B9: L3 | C9: 6622.83 | D9: 205 | E9: 116.61
A10: 46114 | B10: L4 | C10: 3095.6 | D10: 85 | E10: 83.59
A11: 46114 | B11: L5 | C11: 3283.91 | D11: 89 | E11: 65.24
A12: 46115 | B12: L1 | C12: 8006.24 | D12: 248 | E12: 161.04
A13: 46115 | B13: L2 | C13: 6158.04 | D13: 219 | E13: 133.03
... A456: 46203 | B456: L5 | C456: 2581.19 | D456: 69 | E456: 48.78

Sheet Labor Hours
A1: Date | B1: Location ID | C1: Regular Hours | D1: OT Hours | E1: Labor Cost
A2: 46113 | B2: L1 | C2: 81.4 | D2: 4.3 | E2: 1713.08
A3: 46113 | B3: L2 | C3: 63.3 | D3: 5.2 | E3: 1386.45
A4: 46113 | B4: L3 | C4: 99.6 | D4: 4.8 | E4: 2082.6
A5: 46113 | B5: L4 | C5: 63.2 | D5: 4.1 | E5: 1352.33
A6: 46113 | B6: L5 | C6: 42.4 | D6: 3.4 | E6: 926.25
A7: 46114 | B7: L1 | C7: 72.6 | D7: 7.8 | E7: 1643.85
A8: 46114 | B8: L2 | C8: 55.1 | D8: 5.2 | E8: 1226.55
A9: 46114 | B9: L3 | C9: 93.8 | D9: 3.9 | E9: 1943.17
A10: 46114 | B10: L4 | C10: 65.1 | D10: 2.4 | E10: 1339.65
A11: 46114 | B11: L5 | C11: 47.8 | D11: 2.3 | E11: 999.37
A12: 46115 | B12: L1 | C12: 108.1 | D12: 3.6 | E12: 2213.25
A13: 46115 | B13: L2 | C13: 73.2 | D13: 7.3 | E13: 1640.93
... A456: 46203 | B456: L5 | C456: 44.4 | D456: 4.2 | E456: 988.65

Sheet Waste Log
A1: Date | B1: Location ID | C1: Category | D1: Waste Cost | E1: Reason
A2: 46113 | B2: L2 | C2: Bakery | D2: 126.03 | E2: Overproduction
A3: 46113 | B3: L3 | C3: Bakery | D3: 98.75 | E3: Prep Error
A4: 46113 | B4: L4 | C4: Protein | D4: 33 | E4: Spoilage
A5: 46113 | B5: L5 | C5: Dairy | D5: 29.9 | E5: Prep Error
A6: 46114 | B6: L1 | C6: Other | D6: 92.63 | E6: Prep Error
A7: 46114 | B7: L2 | C7: Produce | D7: 89.19 | E7: Spoilage
A8: 46114 | B8: L3 | C8: Dairy | D8: 141.83 | E8: Spoilage
A9: 46115 | B9: L3 | C9: Produce | D9: 102.08 | E9: Spoilage
A10: 46115 | B10: L4 | C10: Bakery | D10: 54.48 | E10: Spoilage
A11: 46116 | B11: L2 | C11: Protein | D11: 95.08 | E11: Spoilage
A12: 46116 | B12: L3 | C12: Other | D12: 82.14 | E12: Overproduction
A13: 46116 | B13: L4 | C13: Bakery | D13: 30.43 | E13: Prep Error
... A213: 46203 | B213: L5 | C213: Bakery | D213: 66.77 | E213: Spoilage
