Workbook

Sheet Dashboard
A1: Property Management Company: Portfolio Operations Dashboard
A3: Source data: 'Work Orders' and 'Units' tabs | Paste new rows into either table and refresh to update
A5: OCCUPANCY RATE | D5: OPEN WORK ORDERS | G5: AVG DAYS TO RESOLVE | J5: RENT COLLECTED (THIS MONTH)
A6: =COUNTIF(Units!D2:D185,"Occupied")/COUNTA(Units!D2:D185) -> 0.89673913 | D6: =COUNTIF('Work Orders'!F2:F261,"Open")+COUNTIF('Work Orders'!F2:F261,"Scheduled") -> 62 | G6: =AVERAGEIF('Work Orders'!F2:F261,"Closed",'Work Orders'!G2:G261) -> 3.4292929 | J6: =SUMIFS(Units!C2:C185,Units!D2:D185,"Occupied",Units!E2:E185,"Paid")/SUMIFS(Units!C2:C185,Units!D2:D185,"Occupied") -> 0.89618937
A11: Work Orders by Category | F11: Occupancy by Property | K11: Ticket Status Mix
A12: Category | B12: Ticket Count | C12: Avg Days to Resolve | D12: Avg Tenant Rating | F12: Property | G12: Total Units | H12: Occupied | I12: Occupancy % | K12: Status | L12: Count
A13: Plumbing | B13: =COUNTIF('Work Orders'!D2:D261,A13) -> 57 | C13: =IFERROR(AVERAGEIFS('Work Orders'!G2:G261,'Work Orders'!D2:D261,A13,'Work Orders'!F2:F261,"Closed"),0) -> 2.4897959 | D13: =IFERROR(AVERAGEIFS('Work Orders'!H2:H261,'Work Orders'!D2:D261,A13,'Work Orders'!F2:F261,"Closed"),0) -> 4.1836735 | F13: Magnolia Court | G13: =COUNTIF(Units!A2:A185,F13) -> 48 | H13: =COUNTIFS(Units!A2:A185,F13,Units!D2:D185,"Occupied") -> 42 | I13: =H13/G13 -> 0.875 | K13: Closed | L13: =COUNTIF('Work Orders'!F2:F261,K13) -> 198
A14: Electrical | B14: =COUNTIF('Work Orders'!D2:D261,A14) -> 44 | C14: =IFERROR(AVERAGEIFS('Work Orders'!G2:G261,'Work Orders'!D2:D261,A14,'Work Orders'!F2:F261,"Closed"),0) -> 2.030303 | D14: =IFERROR(AVERAGEIFS('Work Orders'!H2:H261,'Work Orders'!D2:D261,A14,'Work Orders'!F2:F261,"Closed"),0) -> 3.8181818 | F14: Harborview Flats | G14: =COUNTIF(Units!A2:A185,F14) -> 36 | H14: =COUNTIFS(Units!A2:A185,F14,Units!D2:D185,"Occupied") -> 34 | I14: =H14/G14 -> 0.94444444 | K14: Open | L14: =COUNTIF('Work Orders'!F2:F261,K14) -> 45
A15: HVAC | B15: =COUNTIF('Work Orders'!D2:D261,A15) -> 53 | C15: =IFERROR(AVERAGEIFS('Work Orders'!G2:G261,'Work Orders'!D2:D261,A15,'Work Orders'!F2:F261,"Closed"),0) -> 3.4634146 | D15: =IFERROR(AVERAGEIFS('Work Orders'!H2:H261,'Work Orders'!D2:D261,A15,'Work Orders'!F2:F261,"Closed"),0) -> 4.2439024 | F15: Cedar Ridge | G15: =COUNTIF(Units!A2:A185,F15) -> 60 | H15: =COUNTIFS(Units!A2:A185,F15,Units!D2:D185,"Occupied") -> 52 | I15: =H15/G15 -> 0.86666667 | K15: Scheduled | L15: =COUNTIF('Work Orders'!F2:F261,K15) -> 17
A16: Appliance | B16: =COUNTIF('Work Orders'!D2:D261,A16) -> 69 | C16: =IFERROR(AVERAGEIFS('Work Orders'!G2:G261,'Work Orders'!D2:D261,A16,'Work Orders'!F2:F261,"Closed"),0) -> 4.2156863 | D16: =IFERROR(AVERAGEIFS('Work Orders'!H2:H261,'Work Orders'!D2:D261,A16,'Work Orders'!F2:F261,"Closed"),0) -> 4.1960784 | F16: The Wynwood | G16: =COUNTIF(Units!A2:A185,F16) -> 40 | H16: =COUNTIFS(Units!A2:A185,F16,Units!D2:D185,"Occupied") -> 37 | I16: =H16/G16 -> 0.925
A17: General/Cosmetic | B17: =COUNTIF('Work Orders'!D2:D261,A17) -> 37 | C17: =IFERROR(AVERAGEIFS('Work Orders'!G2:G261,'Work Orders'!D2:D261,A17,'Work Orders'!F2:F261,"Closed"),0) -> 5.5416667 | D17: =IFERROR(AVERAGEIFS('Work Orders'!H2:H261,'Work Orders'!D2:D261,A17,'Work Orders'!F2:F261,"Closed"),0) -> 4.125

Sheet Work Orders
A1: Ticket ID | B1: Property | C1: Unit | D1: Category | E1: Date Submitted | F1: Status | G1: Days to Resolve | H1: Tenant Rating (1-5)
A2: WO-2026-1001 | B2: Cedar Ridge | C2: 2D | D2: Appliance | E2: 46152 | F2: Open
A3: WO-2026-1002 | B3: Magnolia Court | C3: 3E | D3: Plumbing | E3: 46207 | F3: Closed | G3: 4 | H3: 5
A4: WO-2026-1003 | B4: The Wynwood | C4: 1E | D4: Plumbing | E4: 46171 | F4: Closed | G4: 3 | H4: 4
A5: WO-2026-1004 | B5: Magnolia Court | C5: 4A | D5: General/Cosmetic | E5: 46148 | F5: Closed | G5: 6 | H5: 4
A6: WO-2026-1005 | B6: Cedar Ridge | C6: 2A | D6: HVAC | E6: 46224 | F6: Closed | G6: 5 | H6: 5
A7: WO-2026-1006 | B7: Magnolia Court | C7: 1E | D7: Plumbing | E7: 46230 | F7: Closed | G7: 3 | H7: 2
A8: WO-2026-1007 | B8: Cedar Ridge | C8: 3B | D8: Appliance | E8: 46232 | F8: Closed | G8: 3 | H8: 5
A9: WO-2026-1008 | B9: Cedar Ridge | C9: 4C | D9: Appliance | E9: 46179 | F9: Closed | G9: 5 | H9: 5
A10: WO-2026-1009 | B10: Cedar Ridge | C10: 2D | D10: HVAC | E10: 46228 | F10: Closed | G10: 4 | H10: 4
A11: WO-2026-1010 | B11: Cedar Ridge | C11: 3F | D11: Electrical | E11: 46206 | F11: Closed | G11: 1 | H11: 2
A12: WO-2026-1011 | B12: The Wynwood | C12: 1A | D12: Appliance | E12: 46182 | F12: Closed | G12: 5 | H12: 1
A13: WO-2026-1012 | B13: The Wynwood | C13: 3F | D13: Electrical | E13: 46228 | F13: Closed | G13: 3 | H13: 4
A14: WO-2026-1013 | B14: The Wynwood | C14: 1B | D14: Appliance | E14: 46159 | F14: Closed | G14: 4 | H14: 5
... A21: WO-2026-1020 | B21: Magnolia Court | C21: 3E | D21: Plumbing | E21: 46169 | F21: Closed | G21: 3 | H21: 5
A22: WO-2026-1021 | B22: Cedar Ridge | C22: 4A | D22: Plumbing | E22: 46205 | F22: Scheduled
A23: WO-2026-1022 | B23: The Wynwood | C23: 4D | D23: Electrical | E23: 46161 | F23: Closed | G23: 3 | H23: 5
A24: WO-2026-1023 | B24: Cedar Ridge | C24: 4F | D24: Plumbing | E24: 46145 | F24: Closed | G24: 4 | H24: 4
A25: WO-2026-1024 | B25: Magnolia Court | C25: 3F | D25: General/Cosmetic | E25: 46232 | F25: Open
A26: WO-2026-1025 | B26: Cedar Ridge | C26: 2C | D26: Appliance | E26: 46211 | F26: Closed | G26: 4 | H26: 4
A27: WO-2026-1026 | B27: Harborview Flats | C27: 2B | D27: Appliance | E27: 46237 | F27: Open
A28: WO-2026-1027 | B28: Harborview Flats | C28: 4C | D28: Appliance | E28: 46146 | F28: Open
A29: WO-2026-1028 | B29: The Wynwood | C29: 3B | D29: Appliance | E29: 46187 | F29: Closed | G29: 8 | H29: 2
A30: WO-2026-1029 | B30: Cedar Ridge | C30: 1B | D30: Plumbing | E30: 46203 | F30: Closed | G30: 1 | H30: 5
A31: WO-2026-1030 | B31: Magnolia Court | C31: 4F | D31: Electrical | E31: 46225 | F31: Closed | G31: 1 | H31: 3
A32: WO-2026-1031 | B32: Harborview Flats | C32: 4B | D32: HVAC | E32: 46224 | F32: Closed | G32: 1 | H32: 3
A33: WO-2026-1032 | B33: The Wynwood | C33: 4D | D33: Appliance | E33: 46153 | F33: Closed | G33: 4 | H33: 5
A34: WO-2026-1033 | B34: The Wynwood | C34: 2E | D34: General/Cosmetic | E34: 46203 | F34: Closed | G34: 6 | H34: 5
A35: WO-2026-1034 | B35: Harborview Flats | C35: 1A | D35: Appliance | E35: 46235 | F35: Closed | G35: 1 | H35: 5
A36: WO-2026-1035 | B36: Harborview Flats | C36: 2A | D36: Electrical | E36: 46180 | F36: Closed | G36: 1 | H36: 3
A37: WO-2026-1036 | B37: Cedar Ridge | C37: 3E | D37: HVAC | E37: 46159 | F37: Closed | G37: 3 | H37: 4
A38: WO-2026-1037 | B38: The Wynwood | C38: 2E | D38: Plumbing | E38: 46208 | F38: Closed | G38: 1 | H38: 5
A39: WO-2026-1038 | B39: Harborview Flats | C39: 1B | D39: Plumbing | E39: 46203 | F39: Closed | G39: 3 | H39: 4
A40: WO-2026-1039 | B40: The Wynwood | C40: 1E | D40: Plumbing | E40: 46167 | F40: Closed | G40: 3 | H40: 3
A41: WO-2026-1040 | B41: The Wynwood | C41: 1A | D41: HVAC | E41: 46221 | F41: Scheduled
A42: WO-2026-1041 | B42: Harborview Flats | C42: 3D | D42: HVAC | E42: 46246 | F42: Closed | G42: 5 | H42: 3
A43: WO-2026-1042 | B43: Cedar Ridge | C43: 2D | D43: Plumbing | E43: 46158 | F43: Closed | G43: 2 | H43: 5
A44: WO-2026-1043 | B44: Harborview Flats | C44: 4A | D44: Plumbing | E44: 46181 | F44: Open
A45: WO-2026-1044 | B45: Harborview Flats | C45: 3B | D45: Electrical | E45: 46160 | F45: Scheduled
A46: WO-2026-1045 | B46: Harborview Flats | C46: 1D | D46: General/Cosmetic | E46: 46163 | F46: Scheduled
A47: WO-2026-1046 | B47: Harborview Flats | C47: 2F | D47: HVAC | E47: 46208 | F47: Closed | G47: 2 | H47: 5
A48: WO-2026-1047 | B48: Cedar Ridge | C48: 1C | D48: HVAC | E48: 46199 | F48: Closed | G48: 4 | H48: 5
A49: WO-2026-1048 | B49: Cedar Ridge | C49: 1A | D49: General/Cosmetic | E49: 46243 | F49: Closed | G49: 5 | H49: 5
A50: WO-2026-1049 | B50: Harborview Flats | C50: 3B | D50: Appliance | E50: 46229 | F50: Open
A51: WO-2026-1050 | B51: Cedar Ridge | C51: 4B | D51: HVAC | E51: 46208 | F51: Closed | G51: 3 | H51: 4
A52: WO-2026-1051 | B52: Magnolia Court | C52: 3A | D52: Appliance | E52: 46166 | F52: Closed | G52: 7 | H52: 4
A53: WO-2026-1052 | B53: Cedar Ridge | C53: 1E | D53: General/Cosmetic | E53: 46151 | F53: Closed | G53: 6 | H53: 5
A54: WO-2026-1053 | B54: Magnolia Court | C54: 3E | D54: HVAC | E54: 46177 | F54: Closed | G54: 5 | H54: 2
A55: WO-2026-1054 | B55: Harborview Flats | C55: 3A | D55: Plumbing | E55: 46182 | F55: Closed | G55: 3 | H55: 4
A56: WO-2026-1055 | B56: Harborview Flats | C56: 3D | D56: HVAC | E56: 46165 | F56: Closed | G56: 5 | H56: 5
A57: WO-2026-1056 | B57: Magnolia Court | C57: 2E | D57: HVAC | E57: 46200 | F57: Closed | G57: 1 | H57: 3
A58: WO-2026-1057 | B58: The Wynwood | C58: 4E | D58: General/Cosmetic | E58: 46193 | F58: Scheduled
A59: WO-2026-1058 | B59: Cedar Ridge | C59: 2B | D59: Electrical | E59: 46233 | F59: Closed | G59: 5 | H59: 1
A60: WO-2026-1059 | B60: Harborview Flats | C60: 1A | D60: Appliance | E60: 46175 | F60: Closed | G60: 7 | H60: 5
A61: WO-2026-1060 | B61: The Wynwood | C61: 3E | D61: Electrical | E61: 46180 | F61: Closed | G61: 2 | H61: 5
A62: WO-2026-1061 | B62: Cedar Ridge | C62: 3E | D62: Electrical | E62: 46147 | F62: Scheduled
A63: WO-2026-1062 | B63: Cedar Ridge | C63: 2C | D63: Plumbing | E63: 46185 | F63: Closed | G63: 3 | H63: 4
A64: WO-2026-1063 | B64: Harborview Flats | C64: 2E | D64: Appliance | E64: 46154 | F64: Closed | G64: 5 | H64: 5
A65: WO-2026-1064 | B65: Magnolia Court | C65: 3C | D65: Appliance | E65: 46153 | F65: Closed | G65: 5 | H65: 4
A66: WO-2026-1065 | B66: Harborview Flats | C66: 4C | D66: Appliance | E66: 46206 | F66: Closed | G66: 4 | H66: 5
A67: WO-2026-1066 | B67: The Wynwood | C67: 2E | D67: Appliance | E67: 46215 | F67: Open
A68: WO-2026-1067 | B68: Magnolia Court | C68: 2A | D68: Plumbing | E68: 46160 | F68: Closed | G68: 1 | H68: 2
A69: WO-2026-1068 | B69: The Wynwood | C69: 4E | D69: Plumbing | E69: 46145 | F69: Closed | G69: 2 | H69: 5
A70: WO-2026-1069 | B70: Magnolia Court | C70: 1F | D70: HVAC | E70: 46238 | F70: Closed | G70: 2 | H70: 5
A71: WO-2026-1070 | B71: Magnolia Court | C71: 3B | D71: Appliance | E71: 46169 | F71: Closed | G71: 3 | H71: 3
A72: WO-2026-1071 | B72: Magnolia Court | C72: 4F | D72: Electrical | E72: 46148 | F72: Closed | G72: 1 | H72: 4
A73: WO-2026-1072 | B73: Magnolia Court | C73: 2C | D73: Electrical | E73: 46238 | F73: Closed | G73: 1 | H73: 4
A74: WO-2026-1073 | B74: The Wynwood | C74: 3F | D74: Plumbing | E74: 46170 | F74: Closed | G74: 2 | H74: 5
A75: WO-2026-1074 | B75: Cedar Ridge | C75: 4D | D75: HVAC | E75: 46158 | F75: Scheduled
A76: WO-2026-1075 | B76: Harborview Flats | C76: 3A | D76: General/Cosmetic | E76: 46145 | F76: Closed | G76: 6 | H76: 1
A77: WO-2026-1076 | B77: Cedar Ridge | C77: 4B | D77: General/Cosmetic | E77: 46169 | F77: Closed | G77: 6 | H77: 5
A78: WO-2026-1077 | B78: Cedar Ridge | C78: 3B | D78: Appliance | E78: 46223 | F78: Closed | G78: 6 | H78: 5
A79: WO-2026-1078 | B79: The Wynwood | C79: 4A | D79: Plumbing | E79: 46205 | F79: Closed | G79: 1 | H79: 5
A80: WO-2026-1079 | B80: Harborview Flats | C80: 4C | D80: Electrical | E80: 46158 | F80: Open
A81: WO-2026-1080 | B81: Magnolia Court | C81: 3C | D81: General/Cosmetic | E81: 46158 | F81: Scheduled
A82: WO-2026-1081 | B82: Harborview Flats | C82: 1F | D82: Electrical | E82: 46190 | F82: Closed | G82: 1 | H82: 5
A83: WO-2026-1082 | B83: The Wynwood | C83: 3A | D83: Electrical | E83: 46149 | F83: Open
A84: WO-2026-1083 | B84: Cedar Ridge | C84: 2B | D84: General/Cosmetic | E84: 46198 | F84: Closed | G84: 7 | H84: 5
A85: WO-2026-1084 | B85: Cedar Ridge | C85: 4A | D85: Appliance | E85: 46223 | F85: Closed | G85: 5 | H85: 5
A86: WO-2026-1085 | B86: Magnolia Court | C86: 1F | D86: HVAC | E86: 46221 | F86: Closed | G86: 2 | H86: 4
A87: WO-2026-1086 | B87: Cedar Ridge | C87: 4A | D87: General/Cosmetic | E87: 46213 | F87: Closed | G87: 4 | H87: 5
A88: WO-2026-1087 | B88: Cedar Ridge | C88: 4F | D88: Electrical | E88: 46204 | F88: Closed | G88: 2 | H88: 5
A89: WO-2026-1088 | B89: Harborview Flats | C89: 2A | D89: Plumbing | E89: 46246 | F89: Closed | G89: 3 | H89: 1
A90: WO-2026-1089 | B90: The Wynwood | C90: 4B | D90: HVAC | E90: 46174 | F90: Closed | G90: 6 | H90: 5
A91: WO-2026-1090 | B91: Magnolia Court | C91: 3B | D91: Electrical | E91: 46246 | F91: Closed | G91: 4 | H91: 5
A92: WO-2026-1091 | B92: The Wynwood | C92: 2D | D92: Electrical | E92: 46239 | F92: Closed | G92: 1 | H92: 5
A93: WO-2026-1092 | B93: Cedar Ridge | C93: 2F | D93: HVAC | E93: 46223 | F93: Open
A94: WO-2026-1093 | B94: Harborview Flats | C94: 1C | D94: General/Cosmetic | E94: 46192 | F94: Closed | G94: 2 | H94: 3
A95: WO-2026-1094 | B95: Magnolia Court | C95: 2A | D95: HVAC | E95: 46240 | F95: Open
A96: WO-2026-1095 | B96: The Wynwood | C96: 4A | D96: Plumbing | E96: 46210 | F96: Open
A97: WO-2026-1096 | B97: The Wynwood | C97: 2A | D97: Electrical | E97: 46162 | F97: Closed | G97: 3 | H97: 4
A98: WO-2026-1097 | B98: The Wynwood | C98: 1E | D98: Appliance | E98: 46143 | F98: Open
A99: WO-2026-1098 | B99: Harborview Flats | C99: 1F | D99: Appliance | E99: 46159 | F99: Closed | G99: 3 | H99: 3
A100: WO-2026-1099 | B100: Magnolia Court | C100: 1C | D100: HVAC | E100: 46217 | F100: Closed | G100: 3 | H100: 5
A101: WO-2026-1100 | B101: Magnolia Court | C101: 1E | D101: Electrical | E101: 46201 | F101: Closed | G101: 1 | H101: 5
A102: WO-2026-1101 | B102: Harborview Flats | C102: 2A | D102: General/Cosmetic | E102: 46233 | F102: Closed | G102: 7 | H102: 5
A103: WO-2026-1102 | B103: Harborview Flats | C103: 4F | D103: Appliance | E103: 46153 | F103: Closed | G103: 3 | H103: 5
A104: WO-2026-1103 | B104: Magnolia Court | C104: 3F | D104: HVAC | E104: 46230 | F104: Closed | G104: 1 | H104: 5
A105: WO-2026-1104 | B105: Cedar Ridge | C105: 1B | D105: HVAC | E105: 46168 | F105: Closed | G105: 4 | H105: 5
A106: WO-2026-1105 | B106: Cedar Ridge | C106: 1E | D106: HVAC | E106: 46166 | F106: Open
...

Sheet Units
A1: Property | B1: Unit | C1: Monthly Rent | D1: Status | E1: Rent Status (This Month)
A2: Magnolia Court | B2: 1A | C2: 1854 | D2: Vacant | E2: N/A
A3: Magnolia Court | B3: 1B | C3: 2351 | D3: Occupied | E3: Paid
A4: Magnolia Court | B4: 1C | C4: 1787 | D4: Occupied | E4: Late
A5: Magnolia Court | B5: 1D | C5: 1633 | D5: Occupied | E5: Paid
A6: Magnolia Court | B6: 1E | C6: 2402 | D6: Occupied | E6: Paid
A7: Magnolia Court | B7: 1F | C7: 1843 | D7: Occupied | E7: Late
A8: Magnolia Court | B8: 1G | C8: 2441 | D8: Occupied | E8: Paid
A9: Magnolia Court | B9: 1H | C9: 1631 | D9: Occupied | E9: Late
A10: Magnolia Court | B10: 1I | C10: 2345 | D10: Occupied | E10: Paid
A11: Magnolia Court | B11: 1J | C11: 2215 | D11: Occupied | E11: Paid
A12: Magnolia Court | B12: 1K | C12: 2434 | D12: Occupied | E12: Paid
A13: Magnolia Court | B13: 1L | C13: 2180 | D13: Vacant | E13: N/A
... A185: The Wynwood | B185: 4D | C185: 1905 | D185: Occupied | E185: Paid
