Workbook

Sheet Dashboard
A1: Retail Company: Sales Performance Dashboard
A3: Source data: 'Raw Data' tab | Paste new orders into the table and press Ctrl+Alt+F9 to refresh
A5: TOTAL REVENUE | D5: TOTAL ORDERS | G5: AVG ORDER VALUE | J5: RETURN RATE
A6: =SUM('Raw Data'!G2:G421) -> 90565 | D6: =COUNTA('Raw Data'!A2:A421) -> 420 | G6: =A6/D6 -> 215.63095 | J6: =COUNTIF('Raw Data'!H2:H421,"Yes")/COUNTA('Raw Data'!H2:H421) -> 0.035714286
A11: Revenue by Region | F11: Revenue by Category | K11: Monthly Revenue Trend
A12: Region | B12: Revenue | C12: Orders | D12: Avg Order Value | F12: Category | G12: Revenue | H12: Units Sold | I12: % of Total | K12: Month | L12: Revenue
A13: Northeast | B13: =SUMIFS('Raw Data'!G2:G421,'Raw Data'!C2:C421,A13) -> 17054.76 | C13: =COUNTIFS('Raw Data'!C2:C421,A13) -> 80 | D13: =IFERROR(B13/C13,0) -> 213.1845 | F13: Outerwear | G13: =SUMIFS('Raw Data'!G2:G421,'Raw Data'!E2:E421,F13) -> 28274.33 | H13: =SUMIFS('Raw Data'!F2:F421,'Raw Data'!E2:E421,F13) -> 191 | I13: =G13/$A$6 -> 0.3121993 | K13: 2026-02 | L13: =SUMPRODUCT((TEXT('Raw Data'!$B$2:$B$421,"yyyy-mm")=K13)*'Raw Data'!$G$2:$G$421) -> 15412.13
A14: Southeast | B14: =SUMIFS('Raw Data'!G2:G421,'Raw Data'!C2:C421,A14) -> 18520.97 | C14: =COUNTIFS('Raw Data'!C2:C421,A14) -> 87 | D14: =IFERROR(B14/C14,0) -> 212.88471 | F14: Footwear | G14: =SUMIFS('Raw Data'!G2:G421,'Raw Data'!E2:E421,F14) -> 21049.86 | H14: =SUMIFS('Raw Data'!F2:F421,'Raw Data'!E2:E421,F14) -> 187 | I14: =G14/$A$6 -> 0.2324282 | K14: 2026-03 | L14: =SUMPRODUCT((TEXT('Raw Data'!$B$2:$B$421,"yyyy-mm")=K14)*'Raw Data'!$G$2:$G$421) -> 12596.8
A15: Midwest | B15: =SUMIFS('Raw Data'!G2:G421,'Raw Data'!C2:C421,A15) -> 18074.41 | C15: =COUNTIFS('Raw Data'!C2:C421,A15) -> 85 | D15: =IFERROR(B15/C15,0) -> 212.64012 | F15: Camp Gear | G15: =SUMIFS('Raw Data'!G2:G421,'Raw Data'!E2:E421,F15) -> 20128.97 | H15: =SUMIFS('Raw Data'!F2:F421,'Raw Data'!E2:E421,F15) -> 229 | I15: =G15/$A$6 -> 0.22225992 | K15: 2026-04 | L15: =SUMPRODUCT((TEXT('Raw Data'!$B$2:$B$421,"yyyy-mm")=K15)*'Raw Data'!$G$2:$G$421) -> 16684.53
A16: West | B16: =SUMIFS('Raw Data'!G2:G421,'Raw Data'!C2:C421,A16) -> 20957.19 | C16: =COUNTIFS('Raw Data'!C2:C421,A16) -> 98 | D16: =IFERROR(B16/C16,0) -> 213.84888 | F16: Accessories | G16: =SUMIFS('Raw Data'!G2:G421,'Raw Data'!E2:E421,F16) -> 6691.16 | H16: =SUMIFS('Raw Data'!F2:F421,'Raw Data'!E2:E421,F16) -> 179 | I16: =G16/$A$6 -> 0.073882405 | K16: 2026-05 | L16: =SUMPRODUCT((TEXT('Raw Data'!$B$2:$B$421,"yyyy-mm")=K16)*'Raw Data'!$G$2:$G$421) -> 16238.85
A17: Southwest | B17: =SUMIFS('Raw Data'!G2:G421,'Raw Data'!C2:C421,A17) -> 15957.67 | C17: =COUNTIFS('Raw Data'!C2:C421,A17) -> 70 | D17: =IFERROR(B17/C17,0) -> 227.96671 | F17: Base Layers | G17: =SUMIFS('Raw Data'!G2:G421,'Raw Data'!E2:E421,F17) -> 14420.68 | H17: =SUMIFS('Raw Data'!F2:F421,'Raw Data'!E2:E421,F17) -> 253 | I17: =G17/$A$6 -> 0.15923017 | K17: 2026-06 | L17: =SUMPRODUCT((TEXT('Raw Data'!$B$2:$B$421,"yyyy-mm")=K17)*'Raw Data'!$G$2:$G$421) -> 15630.9
K18: 2026-07 | L18: =SUMPRODUCT((TEXT('Raw Data'!$B$2:$B$421,"yyyy-mm")=K18)*'Raw Data'!$G$2:$G$421) -> 14001.79

Sheet Raw Data
A1: Order ID | B1: Order Date | C1: Region | D1: Channel | E1: Category | F1: Units | G1: Revenue | H1: Returned?
A2: CO-10001 | B2: 46217 | C2: Northeast | D2: Marketplace | E2: Footwear | F2: 2 | G2: 197.74 | H2: No
A3: CO-10002 | B3: 46193 | C3: Northeast | D3: Website | E3: Outerwear | F3: 1 | G3: 134.35 | H3: No
A4: CO-10003 | B4: 46060 | C4: Midwest | D4: Marketplace | E4: Base Layers | F4: 4 | G4: 203.97 | H4: No
A5: CO-10004 | B5: 46055 | C5: West | D5: Website | E5: Accessories | F5: 3 | G5: 99.46 | H5: No
A6: CO-10005 | B6: 46140 | C6: Northeast | D6: Website | E6: Camp Gear | F6: 3 | G6: 270.63 | H6: No
A7: CO-10006 | B7: 46171 | C7: Midwest | D7: Retail Partner | E7: Accessories | F7: 1 | G7: 36.51 | H7: No
A8: CO-10007 | B8: 46212 | C8: Southwest | D8: Website | E8: Footwear | F8: 1 | G8: 95.26 | H8: No
A9: CO-10008 | B9: 46128 | C9: Southwest | D9: Marketplace | E9: Outerwear | F9: 4 | G9: 549.43 | H9: No
A10: CO-10009 | B10: 46147 | C10: Northeast | D10: Website | E10: Camp Gear | F10: 1 | G10: 90.37 | H10: No
A11: CO-10010 | B11: 46116 | C11: Northeast | D11: Website | E11: Base Layers | F11: 2 | G11: 119.86 | H11: No
A12: CO-10011 | B12: 46068 | C12: Southeast | D12: Website | E12: Camp Gear | F12: 4 | G12: 320.86 | H12: No
A13: CO-10012 | B13: 46199 | C13: Southwest | D13: Website | E13: Accessories | F13: 4 | G13: 162.35 | H13: No
... A421: CO-10420 | B421: 46135 | C421: Southeast | D421: Website | E421: Camp Gear | F421: 1 | G421: 87.19 | H421: No
